BEGIN:VCALENDAR
VERSION:2.0
PRODID:-//Hovercraft Club of Great Britain - ECPv6.15.20//NONSGML v1.0//EN
CALSCALE:GREGORIAN
METHOD:PUBLISH
X-ORIGINAL-URL:https://www.hovercraft.org.uk
X-WR-CALDESC:Events for Hovercraft Club of Great Britain
REFRESH-INTERVAL;VALUE=DURATION:PT1H
X-Robots-Tag:noindex
X-PUBLISHED-TTL:PT1H
BEGIN:VTIMEZONE
TZID:Europe/London
BEGIN:DAYLIGHT
TZOFFSETFROM:+0000
TZOFFSETTO:+0100
TZNAME:BST
DTSTART:20250330T010000
END:DAYLIGHT
BEGIN:STANDARD
TZOFFSETFROM:+0100
TZOFFSETTO:+0000
TZNAME:GMT
DTSTART:20251026T010000
END:STANDARD
BEGIN:DAYLIGHT
TZOFFSETFROM:+0000
TZOFFSETTO:+0100
TZNAME:BST
DTSTART:20260329T010000
END:DAYLIGHT
BEGIN:STANDARD
TZOFFSETFROM:+0100
TZOFFSETTO:+0000
TZNAME:GMT
DTSTART:20261025T010000
END:STANDARD
BEGIN:DAYLIGHT
TZOFFSETFROM:+0000
TZOFFSETTO:+0100
TZNAME:BST
DTSTART:20270328T010000
END:DAYLIGHT
BEGIN:STANDARD
TZOFFSETFROM:+0100
TZOFFSETTO:+0000
TZNAME:GMT
DTSTART:20271031T010000
END:STANDARD
END:VTIMEZONE
BEGIN:VEVENT
DTSTART;VALUE=DATE:20260516
DTEND;VALUE=DATE:20260518
DTSTAMP:20260425T113150
CREATED:20260205T105503Z
LAST-MODIFIED:20260205T105503Z
UID:11754-1778889600-1779062399@www.hovercraft.org.uk
SUMMARY:Hovercraft Cruise and recovery training  May 16th &17th
DESCRIPTION:Norfolk cruise and recovery training will take place on Hunstanton beach using one of the low tide lagoons . Launch point will be Heacham ramp as usual  . \n  \nPlease contact Jeremy Taylor  or the cruising committee  for further details
URL:https://www.hovercraft.org.uk/event/hovercraft-cruise-and-recovery-training-may-16th-17th/
LOCATION:Manor Farm Norfolk\, Manor Farm\, Field Dalling Road\, Binham\, NR21 0DE
CATEGORIES:HCGB Cruising Events
ORGANIZER;CN="Jeremy Taylor":MAILTO:jeremy@tdhuk.com
END:VEVENT
BEGIN:VEVENT
DTSTART;VALUE=DATE:20260911
DTEND;VALUE=DATE:20260914
DTSTAMP:20260425T113150
CREATED:20260205T110408Z
LAST-MODIFIED:20260205T110408Z
UID:11756-1789084800-1789343999@www.hovercraft.org.uk
SUMMARY:Norfolk Cruise   Heacham to Skegness  around the Wash  September 11th-13th
DESCRIPTION:Norfolk Cruise  . The plan is to travel from Heacham towards Kings Lynn following the wash shore line around to Skegness . All details are TBC as they are currently  being worked on. \nPlease express interest as soon as you can . \nThis may clash with  a race meeting  as there is a potential date in the calendar  although tide times are perfect for the cruise.
URL:https://www.hovercraft.org.uk/event/norfolk-cruise-heacham-to-skegness-around-the-wash-september-11th-13th/
LOCATION:Manor Farm Norfolk\, Manor Farm\, Field Dalling Road\, Binham\, NR21 0DE
CATEGORIES:HCGB Cruising Events
ORGANIZER;CN="Jeremy Taylor":MAILTO:jeremy@tdhuk.com
END:VEVENT
BEGIN:VEVENT
DTSTART;VALUE=DATE:20261023
DTEND;VALUE=DATE:20261026
DTSTAMP:20260425T113150
CREATED:20260205T111038Z
LAST-MODIFIED:20260205T111038Z
UID:11759-1792713600-1792972799@www.hovercraft.org.uk
SUMMARY:Norfolk October Cruise 23rd to 25th
DESCRIPTION:An October cruise will be arranged for this weekend  possibly Heacham or Hemsby depending on the facilities  sea state and coastal erosion on the East coast. \nThe last cruise before the clocks go back
URL:https://www.hovercraft.org.uk/event/norfolk-october-cruise-23rd-to-25th/
LOCATION:Manor Farm Norfolk\, Manor Farm\, Field Dalling Road\, Binham\, NR21 0DE
CATEGORIES:HCGB Cruising Events
ORGANIZER;CN="Jeremy Taylor":MAILTO:jeremy@tdhuk.com
END:VEVENT
END:VCALENDAR