BEGIN:VCALENDAR
VERSION:2.0
PRODID:-//Hovercraft Club of Great Britain - ECPv6.15.20//NONSGML v1.0//EN
CALSCALE:GREGORIAN
METHOD:PUBLISH
X-WR-CALNAME:Hovercraft Club of Great Britain
X-ORIGINAL-URL:https://www.hovercraft.org.uk
X-WR-CALDESC:Events for Hovercraft Club of Great Britain
REFRESH-INTERVAL;VALUE=DURATION:PT1H
X-Robots-Tag:noindex
X-PUBLISHED-TTL:PT1H
BEGIN:VTIMEZONE
TZID:Europe/London
BEGIN:DAYLIGHT
TZOFFSETFROM:+0000
TZOFFSETTO:+0100
TZNAME:BST
DTSTART:20180325T010000
END:DAYLIGHT
BEGIN:STANDARD
TZOFFSETFROM:+0100
TZOFFSETTO:+0000
TZNAME:GMT
DTSTART:20181028T010000
END:STANDARD
BEGIN:DAYLIGHT
TZOFFSETFROM:+0000
TZOFFSETTO:+0100
TZNAME:BST
DTSTART:20190331T010000
END:DAYLIGHT
BEGIN:STANDARD
TZOFFSETFROM:+0100
TZOFFSETTO:+0000
TZNAME:GMT
DTSTART:20191027T010000
END:STANDARD
BEGIN:DAYLIGHT
TZOFFSETFROM:+0000
TZOFFSETTO:+0100
TZNAME:BST
DTSTART:20200329T010000
END:DAYLIGHT
BEGIN:STANDARD
TZOFFSETFROM:+0100
TZOFFSETTO:+0000
TZNAME:GMT
DTSTART:20201025T010000
END:STANDARD
BEGIN:DAYLIGHT
TZOFFSETFROM:+0000
TZOFFSETTO:+0100
TZNAME:BST
DTSTART:20210328T010000
END:DAYLIGHT
BEGIN:STANDARD
TZOFFSETFROM:+0100
TZOFFSETTO:+0000
TZNAME:GMT
DTSTART:20211031T010000
END:STANDARD
END:VTIMEZONE
BEGIN:VEVENT
DTSTART;TZID=Europe/London:20200711T080000
DTEND;TZID=Europe/London:20200712T170000
DTSTAMP:20260425T162613
CREATED:20191110T222624Z
LAST-MODIFIED:20200419T160633Z
UID:9952-1594454400-1594573200@www.hovercraft.org.uk
SUMMARY:Potential Liverpool Sailing Club Cruise
DESCRIPTION:
URL:https://www.hovercraft.org.uk/event/potential-liverpool-sailing-club-cruise/
LOCATION:Liverpool Sailing Club
CATEGORIES:HCGB Cruising Events
ORGANIZER;CN="Danny Nightingale":MAILTO:dannybaldy@hotmail.com
END:VEVENT
BEGIN:VEVENT
DTSTART;TZID=Europe/London:20200627T080000
DTEND;TZID=Europe/London:20200628T170000
DTSTAMP:20260425T162613
CREATED:20191222T190711Z
LAST-MODIFIED:20191222T190711Z
UID:10508-1593244800-1593363600@www.hovercraft.org.uk
SUMMARY:Potential North West Branch Cruise
DESCRIPTION:Potential North West Branch Cruise Potential cruise to be arranged at local level\, check back here for more details closer to the time. Everyone welcome! Please note that this is not an official HCGB event so all craft operators need to have their own insurance in place. Low water 11.10 and 12.10
URL:https://www.hovercraft.org.uk/event/potential-north-west-branch-cruise-12/
CATEGORIES:HCGB Cruising Events,HCGB Members Events
ORGANIZER;CN="Danny Nightingale":MAILTO:dannybaldy@hotmail.com
END:VEVENT
BEGIN:VEVENT
DTSTART;TZID=Europe/London:20200613T080000
DTEND;TZID=Europe/London:20200614T170000
DTSTAMP:20260425T162613
CREATED:20191110T222021Z
LAST-MODIFIED:20200212T211145Z
UID:9947-1592035200-1592154000@www.hovercraft.org.uk
SUMMARY:Ulverston Cruise
DESCRIPTION:
URL:https://www.hovercraft.org.uk/event/ulverston-cruise/
LOCATION:Ulverston Inshore Rescue\, Ulverston Inshore Rescue\, Canal Foot to Plumpton\, Ulverston\, LA12 9EL
CATEGORIES:HCGB Cruising Events
ORGANIZER;CN="Danny Nightingale":MAILTO:dannybaldy@hotmail.com
END:VEVENT
BEGIN:VEVENT
DTSTART;TZID=Europe/London:20200531T080000
DTEND;TZID=Europe/London:20200531T170000
DTSTAMP:20260425T162613
CREATED:20200315T090942Z
LAST-MODIFIED:20200315T092018Z
UID:10761-1590912000-1590944400@www.hovercraft.org.uk
SUMMARY:South East Branch Cruise
DESCRIPTION:Please let Carl Christina know if you are planning on attending. If a cruise is going to be cancelled\, cruisers will be notified at lunchtime the day before the cruise is planned. This gives 20 – 22 hours of notice. Cruises are cancelled in the interests of the safety of everyone; battling into strong wind and crashing into waves is seldom comfortable or enjoyed. \nPlease note that this is not an official HCGB event so all craft operators need to have their own insurance in place.
URL:https://www.hovercraft.org.uk/event/south-east-branch-cruise-11/
LOCATION:Long Reach Jet Ski Club in Iwade\, Kent.\, Long Reach Jet Ski Club\, Iwade\, United Kingdom
CATEGORIES:HCGB Cruising Events,HCGB Members Events
ORGANIZER;CN="Carl Cristina":MAILTO:Carl.Cristina@hadlow.ac.uk
END:VEVENT
BEGIN:VEVENT
DTSTART;TZID=Europe/London:20200530T080000
DTEND;TZID=Europe/London:20200531T170000
DTSTAMP:20260425T162613
CREATED:20191110T221526Z
LAST-MODIFIED:20200529T061715Z
UID:9943-1590825600-1590944400@www.hovercraft.org.uk
SUMMARY:Liverpool Sailing Club Cruise- Cancelled
DESCRIPTION:Unfortunately due to Covid-19 this event has been cancelled.  Following guidance from the RYA the slipway will be accessible by members of the sailing club only with the club currently operating a no guest policy.    Thank you for your understanding\, we will look to re-arrange to one of the other proposed weekends should the situation allow. \n  \nNorth West Branch group cruise from Liverpool Sailing club. Low Water 12.30 and 13.40. \nEveryone welcome but please note this is not an official HCGB event so all craft operators need to arrange their own 3rd party insurance.
URL:https://www.hovercraft.org.uk/event/liverpool-sailing-club-cruise-4/
LOCATION:Liverpool Sailing Club
CATEGORIES:HCGB Cruising Events
ORGANIZER;CN="Danny Nightingale":MAILTO:dannybaldy@hotmail.com
END:VEVENT
BEGIN:VEVENT
DTSTART;TZID=Europe/London:20200516T080000
DTEND;TZID=Europe/London:20200517T170000
DTSTAMP:20260425T162613
CREATED:20191222T185910Z
LAST-MODIFIED:20191222T185910Z
UID:10504-1589616000-1589734800@www.hovercraft.org.uk
SUMMARY:Potential North West Branch
DESCRIPTION:Potential North West Branch Cruise Potential cruise to be arranged at local level\, check back here for more details closer to the time. Everyone welcome! Please note that this is not an official HCGB event so all craft operators need to have their own insurance in place. Low water 14.10 and 15.20
URL:https://www.hovercraft.org.uk/event/potential-north-west-branch/
CATEGORIES:HCGB Cruising Events,HCGB Members Events
ORGANIZER;CN="Danny Nightingale":MAILTO:dannybaldy@hotmail.com
END:VEVENT
BEGIN:VEVENT
DTSTART;TZID=Europe/London:20200502T080000
DTEND;TZID=Europe/London:20200503T170000
DTSTAMP:20260425T162613
CREATED:20191222T190447Z
LAST-MODIFIED:20200411T213858Z
UID:10506-1588406400-1588525200@www.hovercraft.org.uk
SUMMARY:Potential North West Branch Cruise
DESCRIPTION:
URL:https://www.hovercraft.org.uk/event/potential-north-west-branch-cruise-11/
CATEGORIES:HCGB Cruising Events,HCGB Members Events
ORGANIZER;CN="Danny Nightingale":MAILTO:dannybaldy@hotmail.com
END:VEVENT
BEGIN:VEVENT
DTSTART;TZID=Europe/London:20200502T080000
DTEND;TZID=Europe/London:20200502T170000
DTSTAMP:20260425T162613
CREATED:20200315T090415Z
LAST-MODIFIED:20200315T090615Z
UID:10756-1588406400-1588438800@www.hovercraft.org.uk
SUMMARY:South East Branch Cruise
DESCRIPTION:Please let Carl Christina know if you are planning on attending. If a cruise is going to be cancelled\, cruisers will be notified at lunchtime the day before the cruise is planned. This gives 20 – 22 hours of notice. Cruises are cancelled in the interests of the safety of everyone; battling into strong wind and crashing into waves is seldom comfortable or enjoyed. \nPlease note that this is not an official HCGB event so all craft operators need to have their own insurance in place.
URL:https://www.hovercraft.org.uk/event/10756/
LOCATION:Long Reach Jet Ski Club in Iwade\, Kent.\, Long Reach Jet Ski Club\, Iwade\, United Kingdom
CATEGORIES:HCGB Cruising Events,HCGB Members Events
ORGANIZER;CN="Carl Cristina":MAILTO:Carl.Cristina@hadlow.ac.uk
END:VEVENT
BEGIN:VEVENT
DTSTART;VALUE=DATE:20200411
DTEND;VALUE=DATE:20200412
DTSTAMP:20260425T162613
CREATED:20200315T090109Z
LAST-MODIFIED:20200315T092239Z
UID:10754-1586563200-1586649599@www.hovercraft.org.uk
SUMMARY:South East Branch Cruise
DESCRIPTION:Please let Carl Christina know if you are planning on attending. If a cruise is going to be cancelled\, cruisers will be notified at lunchtime the day before the cruise is planned. This gives 20 – 22 hours of notice. Cruises are cancelled in the interests of the safety of everyone; battling into strong wind and crashing into waves is seldom comfortable or enjoyed. \nPlease note that this is not an official HCGB event so all craft operators need to have their own insurance in place.
URL:https://www.hovercraft.org.uk/event/south-east-branch-cruise-9/
LOCATION:Long Reach Jet Ski Club in Iwade\, Kent.\, Long Reach Jet Ski Club\, Iwade\, United Kingdom
CATEGORIES:HCGB Cruising Events,HCGB Members Events
ORGANIZER;CN="Carl Cristina":MAILTO:Carl.Cristina@hadlow.ac.uk
END:VEVENT
BEGIN:VEVENT
DTSTART;TZID=Europe/London:20200328T080000
DTEND;TZID=Europe/London:20200329T170000
DTSTAMP:20260425T162613
CREATED:20191110T223946Z
LAST-MODIFIED:20200315T224010Z
UID:9968-1585382400-1585501200@www.hovercraft.org.uk
SUMMARY:Potential North West Branch Cruise
DESCRIPTION:
URL:https://www.hovercraft.org.uk/event/potential-north-west-branch-cruise-4/
CATEGORIES:HCGB Cruising Events
ORGANIZER;CN="Danny Nightingale":MAILTO:dannybaldy@hotmail.com
END:VEVENT
BEGIN:VEVENT
DTSTART;VALUE=DATE:20200321
DTEND;VALUE=DATE:20200323
DTSTAMP:20260425T162613
CREATED:20200109T075426Z
LAST-MODIFIED:20200406T125739Z
UID:10570-1584748800-1584921599@www.hovercraft.org.uk
SUMMARY:AGM and Social Weekend - POSTPONED
DESCRIPTION:
URL:https://www.hovercraft.org.uk/event/agm-and-social-weekend/
LOCATION:AGM\, Hilton Hotel\, 100 Watering Lane\, Northampton\, NN4 0XW
CATEGORIES:HCGB Cruising Events,HCGB Members Events,HCGB National Race Meetings,HCGB Official Events
END:VEVENT
BEGIN:VEVENT
DTSTART;TZID=Europe/London:20200314T080000
DTEND;TZID=Europe/London:20200315T170000
DTSTAMP:20260425T162613
CREATED:20191110T223743Z
LAST-MODIFIED:20200109T075158Z
UID:9966-1584172800-1584291600@www.hovercraft.org.uk
SUMMARY:Potential North West Branch Cruise
DESCRIPTION:
URL:https://www.hovercraft.org.uk/event/potential-north-west-branch-cruise-3/
CATEGORIES:HCGB Cruising Events
END:VEVENT
BEGIN:VEVENT
DTSTART;TZID=Europe/London:20200229T080000
DTEND;TZID=Europe/London:20200301T170000
DTSTAMP:20260425T162613
CREATED:20191110T223607Z
LAST-MODIFIED:20191115T191136Z
UID:9964-1582963200-1583082000@www.hovercraft.org.uk
SUMMARY:Potential North West Branch Cruise
DESCRIPTION:
URL:https://www.hovercraft.org.uk/event/potential-north-west-branch-cruise-2/
CATEGORIES:HCGB Cruising Events
ORGANIZER;CN="Danny Nightingale":MAILTO:dannybaldy@hotmail.com
END:VEVENT
BEGIN:VEVENT
DTSTART;TZID=Europe/London:20200215T080000
DTEND;TZID=Europe/London:20200216T170000
DTSTAMP:20260425T162613
CREATED:20191110T223418Z
LAST-MODIFIED:20191110T223418Z
UID:9962-1581753600-1581872400@www.hovercraft.org.uk
SUMMARY:Potential North West Branch Cruise
DESCRIPTION:Potential North West Branch Cruise \nPotential cruise to be arranged at local level\, check back here for more details closer to the time. Everyone welcome! \nPlease note that this is not an official HCGB event so all craft operators need to have their own insurance in place.
URL:https://www.hovercraft.org.uk/event/potential-north-west-branch-cruise/
CATEGORIES:HCGB Cruising Events
ORGANIZER;CN="Danny Nightingale":MAILTO:dannybaldy@hotmail.com
END:VEVENT
BEGIN:VEVENT
DTSTART;TZID=Europe/London:20200201T080000
DTEND;TZID=Europe/London:20200202T170000
DTSTAMP:20260425T162613
CREATED:20191110T223250Z
LAST-MODIFIED:20191230T132507Z
UID:9960-1580544000-1580662800@www.hovercraft.org.uk
SUMMARY:Potential North West Cruise
DESCRIPTION:
URL:https://www.hovercraft.org.uk/event/potential-north-west-cruise-2/
CATEGORIES:HCGB Cruising Events
ORGANIZER;CN="Danny Nightingale":MAILTO:dannybaldy@hotmail.com
END:VEVENT
BEGIN:VEVENT
DTSTART;TZID=Europe/London:20200118T080000
DTEND;TZID=Europe/London:20200119T170000
DTSTAMP:20260425T162613
CREATED:20191110T223144Z
LAST-MODIFIED:20191230T133934Z
UID:9958-1579334400-1579453200@www.hovercraft.org.uk
SUMMARY:Potential North West Cruise
DESCRIPTION:
URL:https://www.hovercraft.org.uk/event/potential-north-west-cruise/
CATEGORIES:HCGB Cruising Events
ORGANIZER;CN="Danny Nightingale":MAILTO:dannybaldy@hotmail.com
END:VEVENT
BEGIN:VEVENT
DTSTART;TZID=Europe/London:20200104T080000
DTEND;TZID=Europe/London:20200105T170000
DTSTAMP:20260425T162613
CREATED:20191110T223029Z
LAST-MODIFIED:20191230T133912Z
UID:9956-1578124800-1578243600@www.hovercraft.org.uk
SUMMARY:Potential North West Cruise Date
DESCRIPTION:
URL:https://www.hovercraft.org.uk/event/potential-north-west-cruise-date/
CATEGORIES:HCGB Cruising Events
ORGANIZER;CN="Danny Nightingale":MAILTO:dannybaldy@hotmail.com
END:VEVENT
BEGIN:VEVENT
DTSTART;TZID=Europe/London:20191222T080000
DTEND;TZID=Europe/London:20191222T170000
DTSTAMP:20260425T162613
CREATED:20191222T185550Z
LAST-MODIFIED:20191222T185550Z
UID:10502-1577001600-1577034000@www.hovercraft.org.uk
SUMMARY:Potential North West Branch Cruise
DESCRIPTION:Potential North West Branch Cruise Potential cruise to be arranged at local level\, check back here for more details closer to the time. Everyone welcome! Please note that this is not an official HCGB event so all craft operators need to have their own insurance in place. Low water 14.00 and 15.20
URL:https://www.hovercraft.org.uk/event/potential-north-west-branch-cruise-10/
CATEGORIES:HCGB Cruising Events,HCGB Members Events
ORGANIZER;CN="Danny Nightingale":MAILTO:dannybaldy@hotmail.com
END:VEVENT
BEGIN:VEVENT
DTSTART;TZID=Europe/London:20191221T080000
DTEND;TZID=Europe/London:20191221T170000
DTSTAMP:20260425T162613
CREATED:20190528T143416Z
LAST-MODIFIED:20190528T143416Z
UID:9162-1576915200-1576947600@www.hovercraft.org.uk
SUMMARY:South East Branch Cruise
DESCRIPTION:Potential social cruise. Time and location to be confirmed. Contact organiser for more details
URL:https://www.hovercraft.org.uk/event/south-east-branch-cruise-10/
LOCATION:Long Reach Jet Ski Club in Iwade\, Kent.\, Long Reach Jet Ski Club\, Iwade\, United Kingdom
CATEGORIES:HCGB Cruising Events,HCGB Members Events
ATTACH;FMTTYPE=image/jpeg:https://www.hovercraft.org.uk/wp-content/uploads/2017/12/21640961_10155565736277221_4986308297518281733_o.jpg
ORGANIZER;CN="Carl Cristina":MAILTO:Carl.Cristina@hadlow.ac.uk
END:VEVENT
BEGIN:VEVENT
DTSTART;TZID=Europe/London:20191103T080000
DTEND;TZID=Europe/London:20191103T170000
DTSTAMP:20260425T162613
CREATED:20190528T143029Z
LAST-MODIFIED:20190528T143029Z
UID:9158-1572768000-1572800400@www.hovercraft.org.uk
SUMMARY:South East Branch Cruise
DESCRIPTION:Potential social cruise. Time and location to be confirmed. Contact organiser for more details
URL:https://www.hovercraft.org.uk/event/south-east-branch-cruise-8/
LOCATION:Long Reach Jet Ski Club in Iwade\, Kent.\, Long Reach Jet Ski Club\, Iwade\, United Kingdom
CATEGORIES:HCGB Cruising Events,HCGB Members Events
ATTACH;FMTTYPE=image/jpeg:https://www.hovercraft.org.uk/wp-content/uploads/2017/11/13731464_10153576966507352_2346616007798846453_n.jpg
ORGANIZER;CN="Carl Cristina":MAILTO:Carl.Cristina@hadlow.ac.uk
END:VEVENT
BEGIN:VEVENT
DTSTART;TZID=Europe/London:20191005T080000
DTEND;TZID=Europe/London:20191005T170000
DTSTAMP:20260425T162613
CREATED:20190528T142901Z
LAST-MODIFIED:20190528T142901Z
UID:9156-1570262400-1570294800@www.hovercraft.org.uk
SUMMARY:South East Branch Cruise
DESCRIPTION:Potential social cruise. Time and location to be confirmed. Contact organiser for more details
URL:https://www.hovercraft.org.uk/event/south-east-branch-cruise-7/
LOCATION:Long Reach Jet Ski Club in Iwade\, Kent.\, Long Reach Jet Ski Club\, Iwade\, United Kingdom
CATEGORIES:HCGB Cruising Events,HCGB Members Events
ATTACH;FMTTYPE=image/jpeg:https://www.hovercraft.org.uk/wp-content/uploads/2017/11/13619824_10154369903061639_4214257334871081054_n.jpg
ORGANIZER;CN="Carl Cristina":MAILTO:Carl.Cristina@hadlow.ac.uk
END:VEVENT
BEGIN:VEVENT
DTSTART;TZID=Europe/London:20190922T080000
DTEND;TZID=Europe/London:20190922T170000
DTSTAMP:20260425T162613
CREATED:20190528T142444Z
LAST-MODIFIED:20190528T142739Z
UID:9154-1569139200-1569171600@www.hovercraft.org.uk
SUMMARY:South East Branch Cruise
DESCRIPTION:Potential social cruise. Time and location to be confirmed. Contact organiser for more details
URL:https://www.hovercraft.org.uk/event/south-east-branch-cruise-6/
LOCATION:Long Reach Jet Ski Club in Iwade\, Kent.\, Long Reach Jet Ski Club\, Iwade\, United Kingdom
CATEGORIES:HCGB Cruising Events,HCGB Members Events
ATTACH;FMTTYPE=image/jpeg:https://www.hovercraft.org.uk/wp-content/uploads/2017/11/13709788_10153576967007352_750326429493982479_n.jpg
ORGANIZER;CN="Carl Cristina":MAILTO:Carl.Cristina@hadlow.ac.uk
END:VEVENT
BEGIN:VEVENT
DTSTART;TZID=Europe/London:20190907T080000
DTEND;TZID=Europe/London:20190908T170000
DTSTAMP:20260425T162613
CREATED:20181029T223053Z
LAST-MODIFIED:20190114T214908Z
UID:8966-1567843200-1567962000@www.hovercraft.org.uk
SUMMARY:Liverpool Sailing Club Cruise
DESCRIPTION:Cruising weekend from Liverpool Sailing Club 7th- 8th September 2019 \nLW 12:50 and 14:10
URL:https://www.hovercraft.org.uk/event/liverpool-sailing-club-cruise-3/
LOCATION:Liverpool Sailing Club
CATEGORIES:HCGB Cruising Events,HCGB Members Events
ATTACH;FMTTYPE=image/jpeg:https://www.hovercraft.org.uk/wp-content/uploads/2017/11/cruise.jpg
ORGANIZER;CN="Danny Nightingale":MAILTO:dannybaldy@hotmail.com
END:VEVENT
BEGIN:VEVENT
DTSTART;TZID=Europe/London:20190907T080000
DTEND;TZID=Europe/London:20190907T170000
DTSTAMP:20260425T162613
CREATED:20190528T142254Z
LAST-MODIFIED:20190528T142254Z
UID:9152-1567843200-1567875600@www.hovercraft.org.uk
SUMMARY:South East Branch Cruise
DESCRIPTION:Potential cruise time and location to be confirmed. Contact organiser for more details
URL:https://www.hovercraft.org.uk/event/south-east-branch-cruise-5/
LOCATION:Long Reach Jet Ski Club in Iwade\, Kent.\, Long Reach Jet Ski Club\, Iwade\, United Kingdom
CATEGORIES:HCGB Cruising Events,HCGB Members Events
ATTACH;FMTTYPE=image/jpeg:https://www.hovercraft.org.uk/wp-content/uploads/2017/11/13619824_10154369903061639_4214257334871081054_n.jpg
ORGANIZER;CN="Carl Cristina":MAILTO:Carl.Cristina@hadlow.ac.uk
END:VEVENT
BEGIN:VEVENT
DTSTART;TZID=Europe/London:20190824T080000
DTEND;TZID=Europe/London:20190824T170000
DTSTAMP:20260425T162613
CREATED:20190528T140827Z
LAST-MODIFIED:20190528T140827Z
UID:9150-1566633600-1566666000@www.hovercraft.org.uk
SUMMARY:South East Branch Cruise
DESCRIPTION:Potential cruise time and location to be confirmed. Contact organiser for more details
URL:https://www.hovercraft.org.uk/event/south-east-branch-cruise-4/
LOCATION:Long Reach Jet Ski Club in Iwade\, Kent.\, Long Reach Jet Ski Club\, Iwade\, United Kingdom
CATEGORIES:HCGB Cruising Events,HCGB Members Events
ATTACH;FMTTYPE=image/jpeg:https://www.hovercraft.org.uk/wp-content/uploads/2017/11/13707537_10153576966522352_5126695977567439500_n.jpg
ORGANIZER;CN="Carl Cristina":MAILTO:Carl.Cristina@hadlow.ac.uk
END:VEVENT
BEGIN:VEVENT
DTSTART;TZID=Europe/London:20190804T080000
DTEND;TZID=Europe/London:20190804T170000
DTSTAMP:20260425T162613
CREATED:20190528T140427Z
LAST-MODIFIED:20190528T140427Z
UID:9148-1564905600-1564938000@www.hovercraft.org.uk
SUMMARY:South East Branch Cruise
DESCRIPTION:Potential cruise time and location to be confirmed. Contact organiser for more details
URL:https://www.hovercraft.org.uk/event/south-east-branch-cruise-3/
LOCATION:Long Reach Jet Ski Club in Iwade\, Kent.\, Long Reach Jet Ski Club\, Iwade\, United Kingdom
CATEGORIES:HCGB Cruising Events,HCGB Members Events
ATTACH;FMTTYPE=image/jpeg:https://www.hovercraft.org.uk/wp-content/uploads/2017/12/21640961_10155565736277221_4986308297518281733_o.jpg
ORGANIZER;CN="Carl Cristina":MAILTO:Carl.Cristina@hadlow.ac.uk
END:VEVENT
BEGIN:VEVENT
DTSTART;TZID=Europe/London:20190727T080000
DTEND;TZID=Europe/London:20190728T170000
DTSTAMP:20260425T162613
CREATED:20190528T140249Z
LAST-MODIFIED:20190528T140249Z
UID:9146-1564214400-1564333200@www.hovercraft.org.uk
SUMMARY:South East Branch Cruise
DESCRIPTION:Potential cruise time and location to be confirmed. Contact organiser for more details
URL:https://www.hovercraft.org.uk/event/south-east-branch-cruise-2/
LOCATION:Long Reach Jet Ski Club in Iwade\, Kent.\, Long Reach Jet Ski Club\, Iwade\, United Kingdom
CATEGORIES:HCGB Cruising Events,HCGB Members Events
ATTACH;FMTTYPE=image/jpeg:https://www.hovercraft.org.uk/wp-content/uploads/2017/11/13731464_10153576966507352_2346616007798846453_n.jpg
ORGANIZER;CN="Carl Cristina":MAILTO:Carl.Cristina@hadlow.ac.uk
END:VEVENT
BEGIN:VEVENT
DTSTART;TZID=Europe/London:20190622T080000
DTEND;TZID=Europe/London:20190623T170000
DTSTAMP:20260425T162613
CREATED:20190528T135953Z
LAST-MODIFIED:20190528T143857Z
UID:9144-1561190400-1561309200@www.hovercraft.org.uk
SUMMARY:South East Branch Cruise
DESCRIPTION:Potential social cruise time and location to be confirmed. Contact organiser for more details
URL:https://www.hovercraft.org.uk/event/south-east-branch-cruise/
LOCATION:Long Reach Jet Ski Club in Iwade\, Kent.\, Long Reach Jet Ski Club\, Iwade\, United Kingdom
CATEGORIES:HCGB Cruising Events,HCGB Members Events
ATTACH;FMTTYPE=image/jpeg:https://www.hovercraft.org.uk/wp-content/uploads/2017/11/13709788_10153576967007352_750326429493982479_n.jpg
ORGANIZER;CN="Carl Cristina":MAILTO:Carl.Cristina@hadlow.ac.uk
END:VEVENT
BEGIN:VEVENT
DTSTART;TZID=Europe/London:20190608T080000
DTEND;TZID=Europe/London:20190609T170000
DTSTAMP:20260425T162613
CREATED:20181029T222720Z
LAST-MODIFIED:20190114T214125Z
UID:8964-1559980800-1560099600@www.hovercraft.org.uk
SUMMARY:Ulverston Inshore Rescue Cruise
DESCRIPTION:Cruising weekend from Ulverston Inshore Rescue 8th– 9th June 2019 \nLW 10:20 and 11:20 \n 
URL:https://www.hovercraft.org.uk/event/ulverston-inshore-rescue-cruise-2019/
LOCATION:Ulverston Inshore Rescue\, Ulverston Inshore Rescue\, Canal Foot to Plumpton\, Ulverston\, LA12 9EL
CATEGORIES:HCGB Cruising Events,HCGB Members Events
ATTACH;FMTTYPE=image/jpeg:https://www.hovercraft.org.uk/wp-content/uploads/2017/01/FB_20150902_08_52_16_Saved_Picture-1.jpg
ORGANIZER;CN="Danny Nightingale":MAILTO:dannybaldy@hotmail.com
END:VEVENT
BEGIN:VEVENT
DTSTART;TZID=Europe/London:20190511T080000
DTEND;TZID=Europe/London:20190512T170000
DTSTAMP:20260425T162613
CREATED:20181029T093555Z
LAST-MODIFIED:20181029T222138Z
UID:8960-1557561600-1557680400@www.hovercraft.org.uk
SUMMARY:Liverpool Sailing Club Cruise
DESCRIPTION:Weekend cruise from Liverpool sailing club 11-12th May LW 11:20 and 12:30
URL:https://www.hovercraft.org.uk/event/liverpool-sailing-club-cruise-2/
LOCATION:Liverpool Sailing Club
CATEGORIES:HCGB Cruising Events,HCGB Members Events
ATTACH;FMTTYPE=image/jpeg:https://www.hovercraft.org.uk/wp-content/uploads/2017/11/20160813_182700.jpg
ORGANIZER;CN="Danny Nightingale":MAILTO:dannybaldy@hotmail.com
END:VEVENT
END:VCALENDAR